BEGIN:VCALENDAR
VERSION:2.0
PRODID:-//jEvents 2.0 for Joomla//EN
CALSCALE:GREGORIAN
METHOD:PUBLISH
BEGIN:VEVENT
UID:e1095628a258c4f0efe6fca4823885b1
CATEGORIES:Böllerschützen
CREATED:20160505T194254
SUMMARY:Böllerversammlung
LOCATION:Trachtenstüberl\, Mehrzweckhalle Karlstein
DESCRIPTION:
DTSTAMP:20260419T202117Z
DTSTART:20160514T200000Z
SEQUENCE:0
TRANSP:OPAQUE
END:VEVENT
END:VCALENDAR