BEGIN:VCALENDAR
VERSION:2.0
PRODID:-//jEvents 2.0 for Joomla//EN
CALSCALE:GREGORIAN
METHOD:PUBLISH
BEGIN:VEVENT
UID:f26b5024de5f5acf31cf5c8dc5435b0c
CATEGORIES:Stüberltermine
CREATED:19700101T000000
SUMMARY:Vereinsabend
LOCATION:Trachtenstüberl in der Mehrzweckhalle Karlstein
DESCRIPTION:Vereinsabend im Trachtenstüberl in der Mehrzweckhalle Karlstein\n
X-ALT-DESC;FMTTYPE=text/html:<p>Vereinsabend im Trachtenstüberl in der Mehrzweckhalle Karlstein</p>
DTSTAMP:20260421T042226Z
DTSTART:20150914T180000Z
SEQUENCE:0
RRULE:FREQ=WEEKLY;UNTIL=20151221T000000Z;INTERVAL=1;BYDAY=MO
TRANSP:OPAQUE
END:VEVENT
END:VCALENDAR