BEGIN:VCALENDAR
VERSION:2.0
PRODID:-//jEvents 2.0 for Joomla//EN
CALSCALE:GREGORIAN
METHOD:PUBLISH
BEGIN:VEVENT
UID:3da03c3e7fd44997a572d5c3ddafe8c1
CATEGORIES:Verein allgemein
CREATED:20151025T182055
SUMMARY:Nacht der Tracht
LOCATION:Gasthaus "Altwirt"\, Piding
DESCRIPTION:
DTSTAMP:20260421T154354Z
DTSTART:20151030T190000Z
SEQUENCE:0
TRANSP:OPAQUE
END:VEVENT
END:VCALENDAR