BEGIN:VCALENDAR
VERSION:2.0
PRODID:-//jEvents 2.0 for Joomla//EN
CALSCALE:GREGORIAN
METHOD:PUBLISH
BEGIN:VEVENT
UID:bfb7b950ef0397abd6f9cef729838d77
CATEGORIES:Verein allgemein
CREATED:20151025T193918
SUMMARY:Hillebrand-Luggi-Gedächtnisschießen
LOCATION:Schützenstüberl in der Mehrweckhalle Karlstein
DESCRIPTION:Hillebrand-Luggi-Gedächtnisschießen im Schützenstüberl in der Mehrweckhalle
  Karlstein\n
X-ALT-DESC;FMTTYPE=text/html:<p>Hillebrand-Luggi-Gedächtnisschießen im Schützenstüberl in der Mehrweckha
 lle Karlstein</p>
DTSTAMP:20260421T030035Z
DTSTART:20151121T150000Z
SEQUENCE:0
TRANSP:OPAQUE
END:VEVENT
END:VCALENDAR