BEGIN:VCALENDAR
VERSION:2.0
PRODID:-//jEvents 2.0 for Joomla//EN
CALSCALE:GREGORIAN
METHOD:PUBLISH
BEGIN:VEVENT
UID:08669adb14df993e264cc6a490b450ab
CATEGORIES:Aktive Dirndl und Buam
CREATED:20151101T083746
SUMMARY:Vorplattlerprobe
DESCRIPTION:
DTSTAMP:20260420T233114Z
DTSTART:20160226T193000Z
SEQUENCE:0
TRANSP:OPAQUE
END:VEVENT
END:VCALENDAR