BEGIN:VCALENDAR
VERSION:2.0
PRODID:-//jEvents 2.0 for Joomla//EN
CALSCALE:GREGORIAN
METHOD:PUBLISH
BEGIN:VEVENT
UID:4a183c377ca932f6a27f1f6edab4d36d
CATEGORIES:Verein allgemein
CREATED:20151025T182148
SUMMARY:6-Vereine-Hoagart
LOCATION:Gasthof "Bürgerbräu"\, Bad Reichenhall
DESCRIPTION:6-Vereine-Hoagart des GTEV "Alt-Reichenhall" im Brauereigasthof "Bürgerbräu
 "\n
X-ALT-DESC;FMTTYPE=text/html:<p>6-Vereine-Hoagart des GTEV "Alt-Reichenhall" im Brauereigasthof "Bürgerb
 räu"</p>
DTSTAMP:20260421T075029Z
DTSTART:20151031T200000Z
SEQUENCE:0
TRANSP:OPAQUE
END:VEVENT
END:VCALENDAR