BEGIN:VCALENDAR
VERSION:2.0
PRODID:-//jEvents 2.0 for Joomla//EN
CALSCALE:GREGORIAN
METHOD:PUBLISH
BEGIN:VEVENT
UID:d19bc41fdb7f4dd75d89e84d35764ce1
CATEGORIES:Verein allgemein
CREATED:20151101T083910
SUMMARY:Gebietssitzung
LOCATION:Trachtenstüberl\, Mehrzweckhalle Karlstein
DESCRIPTION:
DTSTAMP:20260422T233530Z
DTSTART:20160302T200000Z
SEQUENCE:0
TRANSP:OPAQUE
END:VEVENT
END:VCALENDAR