BEGIN:VCALENDAR
VERSION:2.0
PRODID:-//jEvents 2.0 for Joomla//EN
CALSCALE:GREGORIAN
METHOD:PUBLISH
BEGIN:VEVENT
UID:ea97bba1bbde82dffe6bce582bd8fd3a
CATEGORIES:Böllerschützen
CREATED:20151101T085100
SUMMARY:Sylvesterschießen
LOCATION:Seppenbauer\, Karlstein
DESCRIPTION:
DTSTAMP:20260421T055024Z
DTSTART:20151231T150000Z
SEQUENCE:0
TRANSP:OPAQUE
END:VEVENT
END:VCALENDAR