BEGIN:VCALENDAR
VERSION:2.0
PRODID:-//jEvents 2.0 for Joomla//EN
CALSCALE:GREGORIAN
METHOD:PUBLISH
BEGIN:VEVENT
UID:1a78b7a3a0d4d76f845f0541a74030da
CATEGORIES:Verein allgemein
CREATED:20151025T185557
SUMMARY:Schlachtschüsselessen
LOCATION:Trachtenstüberl in der Mehrzweckhalle Karlstein
DESCRIPTION:Schlachtschüsselessen im Trachtenstüberl in der Mehrzweckhalle Karlstein zu
 sammen mit dem Krieger- und Soldatenverein Karlstein-Nonn und der FF Bad Re
 ichenhall, Löschzug Karlstein\n
X-ALT-DESC;FMTTYPE=text/html:<p>Schlachtschüsselessen im Trachtenstüberl in der Mehrzweckhalle Karlstein
  zusammen mit dem Krieger- und Soldatenverein Karlstein-Nonn und der FF Bad
  Reichenhall, Löschzug Karlstein</p>
DTSTAMP:20260421T122454Z
DTSTART:20151107T190000Z
SEQUENCE:0
TRANSP:OPAQUE
END:VEVENT
END:VCALENDAR