BEGIN:VCALENDAR
VERSION:2.0
PRODID:-//jEvents 2.0 for Joomla//EN
CALSCALE:GREGORIAN
METHOD:PUBLISH
BEGIN:VEVENT
UID:5a7f8316fa675dfd90c78ca09975898f
CATEGORIES:Verein allgemein
CREATED:20151108T195047
SUMMARY:66. Gautrachtenwallfahrt nach Maria Eck
LOCATION:Maria Eck
DESCRIPTION:66. Trachtenwallfahrt nach Maria Eck\n
X-ALT-DESC;FMTTYPE=text/html:<p>66. Trachtenwallfahrt nach Maria Eck</p>
X-EXTRAINFO:Fahrt mit privatem Pkw - Treffpunkt um 7:45 Uhr am Feuerwehrgerätehaus Karl
 stein
DTSTAMP:20260421T114527Z
DTSTART:20160522T074500Z
SEQUENCE:0
TRANSP:OPAQUE
END:VEVENT
END:VCALENDAR