BEGIN:VCALENDAR
VERSION:2.0
PRODID:-//jEvents 2.0 for Joomla//EN
CALSCALE:GREGORIAN
METHOD:PUBLISH
BEGIN:VEVENT
UID:4a082a8bbaa94d7a86b78c207aa1bbcb
CATEGORIES:Verein allgemein
CREATED:20151220T101529
SUMMARY:Fronleichnamsprozession in Bad Reichenhall
LOCATION:Kurpark Bad Reichenhall
DESCRIPTION:Fronleichnamsprozession in Bad Reichenhall, Treffpunkt Kurpark\n
X-ALT-DESC;FMTTYPE=text/html:<p>Fronleichnamsprozession in Bad Reichenhall, Treffpunkt Kurpark</p>
DTSTAMP:20260420T010617Z
DTSTART:20160526T084500Z
SEQUENCE:0
TRANSP:OPAQUE
END:VEVENT
END:VCALENDAR