BEGIN:VCALENDAR
VERSION:2.0
PRODID:-//jEvents 2.0 for Joomla//EN
CALSCALE:GREGORIAN
METHOD:PUBLISH
BEGIN:VEVENT
UID:91ad5ae13bb85f6b14b615e89e5f7654
CATEGORIES:Kinder- und Jugendgruppe
CREATED:20160114T105416
SUMMARY:Kinderfasching im Trachtenstüberl
LOCATION:Trachtenstüberl\, Mehrzweckhalle Karlstein
DESCRIPTION:
DTSTAMP:20260420T021320Z
DTSTART:20160205T143000Z
SEQUENCE:0
TRANSP:OPAQUE
END:VEVENT
END:VCALENDAR