BEGIN:VCALENDAR
VERSION:2.0
PRODID:-//jEvents 2.0 for Joomla//EN
CALSCALE:GREGORIAN
METHOD:PUBLISH
BEGIN:VEVENT
UID:b4c7ae9eb30bef4830c45d7d67170817
CATEGORIES:Verein allgemein
CREATED:20160114T105556
SUMMARY:Emmausandacht in St. Pankraz
LOCATION:St.-Pankraz-Kirche\, Karlstein
DESCRIPTION:Emmausandacht in St. Pankraz\n
X-ALT-DESC;FMTTYPE=text/html:<p>Emmausandacht in St. Pankraz</p>
DTSTAMP:20260420T001804Z
DTSTART:20160328T140000Z
SEQUENCE:0
TRANSP:OPAQUE
END:VEVENT
END:VCALENDAR