BEGIN:VCALENDAR
VERSION:2.0
PRODID:-//jEvents 2.0 for Joomla//EN
CALSCALE:GREGORIAN
METHOD:PUBLISH
BEGIN:VEVENT
UID:f0125059efe11d9e0a5846ab0fced8c7
CATEGORIES:Verein allgemein
CREATED:20160114T105812
SUMMARY:Generalversammlung
LOCATION:Gasthaus "Moserwirt"\, Karlstein
DESCRIPTION:Tagesordnung:\n1. Begrüßung\n2. Totengedenken\n3. Bericht Kassier\n4. Beric
 ht Schriftführer\n5. Bericht 1. Vorsitzender\n6. Bericht Jugendleiter\n7. B
 ericht Vorplattler\n8. Neuaufnahmen\n9. Wünsche und Anträge\n
X-ALT-DESC;FMTTYPE=text/html:<p>Tagesordnung:</p><p>1. Begrüßung<br />2. Totengedenken<br />3. Bericht K
 assier<br />4. Bericht Schriftführer<br />5. Bericht 1. Vorsitzender<br />6
 . Bericht Jugendleiter<br />7. Bericht Vorplattler<br />8. Neuaufnahmen<br 
 />9. Wünsche und Anträge</p>
DTSTAMP:20260422T203817Z
DTSTART:20160402T200000Z
SEQUENCE:0
TRANSP:OPAQUE
END:VEVENT
END:VCALENDAR