BEGIN:VCALENDAR
VERSION:2.0
PRODID:-//jEvents 2.0 for Joomla//EN
CALSCALE:GREGORIAN
METHOD:PUBLISH
BEGIN:VEVENT
UID:e9828995b79bd6a8225a91a84e0fb482
CATEGORIES:Verein allgemein
CREATED:20151020T213128
SUMMARY:Herbstversammlung
DESCRIPTION:
DTSTAMP:20260421T091843Z
DTSTART:20151024T200000Z
SEQUENCE:0
TRANSP:OPAQUE
END:VEVENT
END:VCALENDAR