BEGIN:VCALENDAR
VERSION:2.0
PRODID:-//jEvents 2.0 for Joomla//EN
CALSCALE:GREGORIAN
METHOD:PUBLISH
BEGIN:VEVENT
UID:7f278c86a40ac924f52efe7f6baa94a0
CATEGORIES:Stüberltermine
CREATED:19700101T000000
SUMMARY:Vereinsabend
LOCATION:Trachtenstüberl\, Mehrzweckhalle Karlstein
DESCRIPTION:
DTSTAMP:20260420T045704Z
DTSTART:20160104T180000Z
SEQUENCE:0
RRULE:FREQ=WEEKLY;UNTIL=20160321T000000Z;INTERVAL=1;BYDAY=MO
TRANSP:OPAQUE
END:VEVENT
END:VCALENDAR