BEGIN:VCALENDAR
VERSION:2.0
PRODID:-//jEvents 2.0 for Joomla//EN
CALSCALE:GREGORIAN
METHOD:PUBLISH
BEGIN:VEVENT
UID:d15f597fcd4309595ceb142c5d538f52
CATEGORIES:Verein allgemein
CREATED:20151025T194015
SUMMARY:Adventfeier
LOCATION:Trachtenstüberl in der Mehrzweckhalle Karlstein
DESCRIPTION:Adventfeier im Trachtenstüberl in der Mehrzweckhalle Karlstein\n
X-ALT-DESC;FMTTYPE=text/html:<p>Adventfeier im Trachtenstüberl in der Mehrzweckhalle Karlstein</p>
DTSTAMP:20260422T012013Z
DTSTART:20151213T140000Z
SEQUENCE:0
TRANSP:OPAQUE
END:VEVENT
END:VCALENDAR