BEGIN:VCALENDAR
VERSION:2.0
PRODID:-//jEvents 2.0 for Joomla//EN
CALSCALE:GREGORIAN
METHOD:PUBLISH
BEGIN:VEVENT
UID:60104ebaad31dbd52d9e1ea9a200d51f
CATEGORIES:Böllerschützen
CREATED:20151101T085018
SUMMARY:Weihnachtsschießen
LOCATION:Seppenbauer\, Karlstein
DESCRIPTION:
DTSTAMP:20260422T005630Z
DTSTART:20151224T150000Z
SEQUENCE:0
TRANSP:OPAQUE
END:VEVENT
END:VCALENDAR