BEGIN:VCALENDAR
VERSION:2.0
PRODID:-//jEvents 2.0 for Joomla//EN
CALSCALE:GREGORIAN
METHOD:PUBLISH
BEGIN:VEVENT
UID:47200ee5a9e29266ee64c4fbf59fe073
CATEGORIES:Verein allgemein
CREATED:20151101T085226
SUMMARY:Christbaumversteigerung
LOCATION:Trachenstüberl\, Mehrzweckhalle Karlstein
DESCRIPTION:
DTSTAMP:20260422T005641Z
DTSTART:20151226T190000Z
SEQUENCE:0
TRANSP:OPAQUE
END:VEVENT
END:VCALENDAR