BEGIN:VCALENDAR
VERSION:2.0
PRODID:-//jEvents 2.0 for Joomla//EN
CALSCALE:GREGORIAN
METHOD:PUBLISH
BEGIN:VEVENT
UID:45f30cab7394e5618384ae721df7b614
CATEGORIES:Böllerschützen
CREATED:20151108T093650
SUMMARY:Böllerherbstversammlung
LOCATION:Trachtenstüberl in der Mehrzweckhalle Karlstein
DESCRIPTION:Böllerherbstversammlung im Trachtenstüberl in der Mehrzweckhalle Karlstein\
 n
X-ALT-DESC;FMTTYPE=text/html:<p>Böllerherbstversammlung im Trachtenstüberl in der Mehrzweckhalle Karlste
 in</p>
DTSTAMP:20260421T075203Z
DTSTART:20151128T200000Z
SEQUENCE:0
TRANSP:OPAQUE
END:VEVENT
END:VCALENDAR