BEGIN:VCALENDAR
VERSION:2.0
PRODID:-//jEvents 2.0 for Joomla//EN
CALSCALE:GREGORIAN
METHOD:PUBLISH
BEGIN:VEVENT
UID:b369e267b0a4556d10e66a357b5d9406
CATEGORIES:Verein allgemein
CREATED:20151108T194916
SUMMARY:Gaufrühjahrsversammlung
LOCATION:Aula in der Berufsschule Traunstein
DESCRIPTION:
DTSTAMP:20260422T161634Z
DTSTART:20160313T090000Z
SEQUENCE:0
TRANSP:OPAQUE
END:VEVENT
END:VCALENDAR