BEGIN:VCALENDAR
VERSION:2.0
PRODID:-//jEvents 2.0 for Joomla//EN
CALSCALE:GREGORIAN
METHOD:PUBLISH
BEGIN:VEVENT
UID:c185112389dd27a2ad24ed6fc80472fd
CATEGORIES:Böllerschützen
CREATED:20151201T082727
SUMMARY:Schießen Christmette
LOCATION:Brucknerbauer\, Karlstein
DESCRIPTION:
DTSTAMP:20260421T131553Z
DTSTART:20151224T230000Z
SEQUENCE:0
TRANSP:OPAQUE
END:VEVENT
END:VCALENDAR