BEGIN:VCALENDAR
VERSION:2.0
PRODID:-//jEvents 2.0 for Joomla//EN
CALSCALE:GREGORIAN
METHOD:PUBLISH
BEGIN:VEVENT
UID:d6ee63025fff8892d08bb13f7d2adf88
CATEGORIES:Verein allgemein
CREATED:20160114T105002
SUMMARY:Neujahrsempfang
LOCATION:Altes Kurhaus\, Bad Reichenhall
DESCRIPTION:
DTSTAMP:20260420T170424Z
DTSTART:20160114T193000Z
SEQUENCE:0
TRANSP:OPAQUE
END:VEVENT
END:VCALENDAR