BEGIN:VCALENDAR
VERSION:2.0
PRODID:-//jEvents 2.0 for Joomla//EN
CALSCALE:GREGORIAN
METHOD:PUBLISH
BEGIN:VEVENT
UID:f42f4ef14d3d5639eab87ca41016f2da
CATEGORIES:Verein allgemein
CREATED:20160114T110221
SUMMARY:Maiandacht an der Seebachkapelle
LOCATION:Seebachkapelle Karlstein
DESCRIPTION:
DTSTAMP:20260419T192911Z
DTSTART:20160521T190000Z
SEQUENCE:0
TRANSP:OPAQUE
END:VEVENT
END:VCALENDAR