BEGIN:VCALENDAR
VERSION:2.0
PRODID:-//jEvents 2.0 for Joomla//EN
CALSCALE:GREGORIAN
METHOD:PUBLISH
BEGIN:VEVENT
UID:f26b5024de5f5acf31cf5c8dc5435b0c
CATEGORIES:Stüberltermine
CREATED:20151025T190535
SUMMARY:Vereinsabend
LOCATION:Trachtenstüberl in der Mehrzweckhalle Karlstein
DESCRIPTION:Vereinsabend im Trachtenstüberl in der Mehrzweckhalle Karlstein\n
X-ALT-DESC;FMTTYPE=text/html:<p>Vereinsabend im Trachtenstüberl in der Mehrzweckhalle Karlstein</p>
DTSTAMP:20260421T054140Z
DTSTART:20151130T180000Z
SEQUENCE:0
TRANSP:OPAQUE
END:VEVENT
END:VCALENDAR