BEGIN:VCALENDAR
VERSION:2.0
PRODID:-//jEvents 2.0 for Joomla//EN
CALSCALE:GREGORIAN
METHOD:PUBLISH
BEGIN:VEVENT
UID:7f278c86a40ac924f52efe7f6baa94a0
CATEGORIES:Stüberltermine
CREATED:20160114T111928
SUMMARY:Vereinsabend
LOCATION:Trachtenstüberl\, Mehrzweckhalle Karlstein
DESCRIPTION:
DTSTAMP:20260419T192851Z
DTSTART:20160307T180000Z
SEQUENCE:0
TRANSP:OPAQUE
END:VEVENT
END:VCALENDAR